BEGIN:VCALENDAR
VERSION:2.0
PRODID:-//123Answers.ca - ECPv6.1.2.2//NONSGML v1.0//EN
CALSCALE:GREGORIAN
METHOD:PUBLISH
X-WR-CALNAME:123Answers.ca
X-ORIGINAL-URL:https://123answers.ca
X-WR-CALDESC:Events for 123Answers.ca
REFRESH-INTERVAL;VALUE=DURATION:PT1H
X-Robots-Tag:noindex
X-PUBLISHED-TTL:PT1H
BEGIN:VTIMEZONE
TZID:America/Vancouver
BEGIN:DAYLIGHT
TZOFFSETFROM:-0800
TZOFFSETTO:-0700
TZNAME:PDT
DTSTART:20230312T100000
END:DAYLIGHT
BEGIN:STANDARD
TZOFFSETFROM:-0700
TZOFFSETTO:-0800
TZNAME:PST
DTSTART:20231105T090000
END:STANDARD
END:VTIMEZONE
BEGIN:VEVENT
DTSTART;TZID=America/Vancouver:20230617T130500
DTEND;TZID=America/Vancouver:20230617T180000
DTSTAMP:20260425T151741
CREATED:20230617T181300Z
LAST-MODIFIED:20230618T182609Z
UID:40992-1687007100-1687024800@123answers.ca
SUMMARY:Vancouver Canadians vs Hillsboro Hops
DESCRIPTION:Come see Vancouver Canadians vs Hillsboro Hops at Nat Bailey Stadium
URL:https://123answers.ca/event/vancouver-canadians-vs-hillsboro-hops/
LOCATION:Rogers Field at Nat Bailey Stadium\, 4601 Ontario Steet\, Vancouver\, BC\, V5V 3H4\, Canada
CATEGORIES:Sports
ATTACH;FMTTYPE=image/png:https://123answers.ca/wp-content/uploads/2023/06/vancouver_canadians_200x200.png
ORGANIZER;CN="Vancouver%20Canadians":MAILTO:tickets@canadiansbaseball.com
END:VEVENT
END:VCALENDAR